BEGIN:VCALENDAR
VERSION:2.0
PRODID:-//eventon.com NONSGML v1.0//EN
CALSCALE:GREGORIAN
METHOD:PUBLISH
BEGIN:VEVENT
UID:69e73cdaa3192
DTSTAMP:20260421T090114Z
DTSTART:20240713T230000Z
DTEND:20240714T020000Z
LOCATION:
SUMMARY:La Seguridad Interior
DESCRIPTION:Cineforo aleman invita el 13 de julio a las 6 pm en Poemapa a l
 a pelicula «La Seguridad Interior». Cada obra del director Christian Petz
 old es una mirada a las zonas más oscuras de la mente alemana. En La segu
 ridad interior (2000)\,  el director contó las vicisitudes de una pareja 
 de ex[..]\nhttps://poemapa.hrev.org/events/la-seguridad-interior/
URL:https://poemapa.hrev.org/events/la-seguridad-interior/
END:VEVENT
END:VCALENDAR